BEGIN:VCALENDAR
VERSION:2.0
PRODID:-//Telerik Inc.//NONSGML RadScheduler//EN
METHOD:PUBLISH
BEGIN:VEVENT
DTSTART:20230417T203000Z
DTEND:20230417T213000Z
UID:20231030T204234Z-
DTSTAMP:20231030T204234Z
LOCATION:   
SUMMARY:Sample Event Listing
DESCRIPTION:This is a description of your event.
END:VEVENT
END:VCALENDAR
